BEGIN:VCALENDAR
VERSION:2.0
PRODID:-//Magnifique Beauty School - ECPv4.7.0.1//NONSGML v1.0//EN
CALSCALE:GREGORIAN
METHOD:PUBLISH
X-WR-CALNAME:Magnifique Beauty School
X-ORIGINAL-URL:https://www.magnifique.com.ua
X-WR-CALDESC:Events for Magnifique Beauty School
BEGIN:VEVENT
DTSTART;TZID=UTC+3:20220627T120000
DTEND;TZID=UTC+3:20220627T150000
DTSTAMP:20260420T011256
CREATED:20220518T174131Z
LAST-MODIFIED:20220518T174131Z
UID:3221-1656331200-1656342000@www.magnifique.com.ua
SUMMARY:Онлайн-інтенсив "Мезотерапія"
DESCRIPTION:
URL:https://www.magnifique.com.ua/event/%d0%be%d0%bd%d0%bb%d0%b0%d0%b9%d0%bd-%d1%96%d0%bd%d1%82%d0%b5%d0%bd%d1%81%d0%b8%d0%b2-%d0%bc%d0%b5%d0%b7%d0%be%d1%82%d0%b5%d1%80%d0%b0%d0%bf%d1%96%d1%8f/
CATEGORIES:Курсы
END:VEVENT
END:VCALENDAR