BEGIN:VCALENDAR
VERSION:2.0
PRODID:-//Magnifique Beauty School - ECPv4.7.0.1//NONSGML v1.0//EN
CALSCALE:GREGORIAN
METHOD:PUBLISH
X-WR-CALNAME:Magnifique Beauty School
X-ORIGINAL-URL:https://www.magnifique.com.ua
X-WR-CALDESC:Events for Magnifique Beauty School
BEGIN:VEVENT
DTSTART;TZID=UTC+3:20200127T100000
DTEND;TZID=UTC+3:20200127T163000
DTSTAMP:20260425T012055
CREATED:20191120T124202Z
LAST-MODIFIED:20191120T124202Z
UID:1055-1580119200-1580142600@www.magnifique.com.ua
SUMMARY:Экспресс-курс "Мезотерапия"
DESCRIPTION:
URL:https://www.magnifique.com.ua/event/%d1%8d%d0%ba%d1%81%d0%bf%d1%80%d0%b5%d1%81%d1%81-%d0%ba%d1%83%d1%80%d1%81-%d0%bc%d0%b5%d0%b7%d0%be%d1%82%d0%b5%d1%80%d0%b0%d0%bf%d0%b8%d1%8f-7/
CATEGORIES:Курсы
END:VEVENT
END:VCALENDAR