BEGIN:VCALENDAR
VERSION:2.0
PRODID:-//Magnifique Beauty School - ECPv4.7.0.1//NONSGML v1.0//EN
CALSCALE:GREGORIAN
METHOD:PUBLISH
X-WR-CALNAME:Magnifique Beauty School
X-ORIGINAL-URL:https://www.magnifique.com.ua
X-WR-CALDESC:Events for Magnifique Beauty School
BEGIN:VEVENT
DTSTART;TZID=UTC+3:20201028T100000
DTEND;TZID=UTC+3:20201028T170000
DTSTAMP:20260423T095331
CREATED:20200821T201615Z
LAST-MODIFIED:20200821T201615Z
UID:1964-1603879200-1603904400@www.magnifique.com.ua
SUMMARY:Экспресс-курс "Биоревитализация с использованием иглы и канюли"
DESCRIPTION:
URL:https://www.magnifique.com.ua/event/%d1%8d%d0%ba%d1%81%d0%bf%d1%80%d0%b5%d1%81%d1%81-%d0%ba%d1%83%d1%80%d1%81-%d0%b1%d0%b8%d0%be%d1%80%d0%b5%d0%b2%d0%b8%d1%82%d0%b0%d0%bb%d0%b8%d0%b7%d0%b0%d1%86%d0%b8%d1%8f-%d1%81-%d0%b8%d1%81%d0%bf/
CATEGORIES:Курсы
END:VEVENT
END:VCALENDAR