BEGIN:VCALENDAR
VERSION:2.0
PRODID:-//Magnifique Beauty School - ECPv4.7.0.1//NONSGML v1.0//EN
CALSCALE:GREGORIAN
METHOD:PUBLISH
X-WR-CALNAME:Magnifique Beauty School
X-ORIGINAL-URL:https://www.magnifique.com.ua
X-WR-CALDESC:Events for Magnifique Beauty School
BEGIN:VEVENT
DTSTART;TZID=UTC+3:20220613T100000
DTEND;TZID=UTC+3:20220613T130000
DTSTAMP:20260420T061025
CREATED:20220519T111226Z
LAST-MODIFIED:20220519T111226Z
UID:3225-1655114400-1655125200@www.magnifique.com.ua
SUMMARY:Семінар "Дермаштамп і мезороллер в косметології"
DESCRIPTION:
URL:https://www.magnifique.com.ua/event/%d1%81%d0%b5%d0%bc%d1%96%d0%bd%d0%b0%d1%80-%d0%b4%d0%b5%d1%80%d0%bc%d0%b0%d1%88%d1%82%d0%b0%d0%bc%d0%bf-%d1%96-%d0%bc%d0%b5%d0%b7%d0%be%d1%80%d0%be%d0%bb%d0%bb%d0%b5%d1%80-%d0%b2-%d0%ba%d0%be%d1%81/
CATEGORIES:Семинары
END:VEVENT
END:VCALENDAR