BEGIN:VCALENDAR
VERSION:2.0
PRODID:-//Magnifique Beauty School - ECPv4.7.0.1//NONSGML v1.0//EN
CALSCALE:GREGORIAN
METHOD:PUBLISH
X-WR-CALNAME:Magnifique Beauty School
X-ORIGINAL-URL:https://www.magnifique.com.ua
X-WR-CALDESC:Events for Magnifique Beauty School
BEGIN:VEVENT
DTSTART;TZID=UTC+3:20220204T130000
DTEND;TZID=UTC+3:20220204T160000
DTSTAMP:20260422T002017
CREATED:20220114T190252Z
LAST-MODIFIED:20220114T190252Z
UID:3036-1643979600-1643990400@www.magnifique.com.ua
SUMMARY:Семинар "Laennec. Терапия плацентарными препаратами"
DESCRIPTION:
URL:https://www.magnifique.com.ua/event/%d1%81%d0%b5%d0%bc%d0%b8%d0%bd%d0%b0%d1%80-laennec-%d1%82%d0%b5%d1%80%d0%b0%d0%bf%d0%b8%d1%8f-%d0%bf%d0%bb%d0%b0%d1%86%d0%b5%d0%bd%d1%82%d0%b0%d1%80%d0%bd%d1%8b%d0%bc%d0%b8-%d0%bf%d1%80%d0%b5%d0%bf/
CATEGORIES:Семинары
END:VEVENT
END:VCALENDAR