BEGIN:VCALENDAR
VERSION:2.0
PRODID:-//Magnifique Beauty School - ECPv4.7.0.1//NONSGML v1.0//EN
CALSCALE:GREGORIAN
METHOD:PUBLISH
X-WR-CALNAME:Magnifique Beauty School
X-ORIGINAL-URL:https://www.magnifique.com.ua
X-WR-CALDESC:Events for Magnifique Beauty School
BEGIN:VEVENT
DTSTART;TZID=UTC+3:20200914T100000
DTEND;TZID=UTC+3:20200914T130000
DTSTAMP:20260423T164835
CREATED:20200723T090954Z
LAST-MODIFIED:20200723T090954Z
UID:1865-1600077600-1600088400@www.magnifique.com.ua
SUMMARY:Семинар "Эстетическая анатомия. Механизмы старения"
DESCRIPTION:
URL:https://www.magnifique.com.ua/event/%d1%81%d0%b5%d0%bc%d0%b8%d0%bd%d0%b0%d1%80-%d1%8d%d1%81%d1%82%d0%b5%d1%82%d0%b8%d1%87%d0%b5%d1%81%d0%ba%d0%b0%d1%8f-%d0%b0%d0%bd%d0%b0%d1%82%d0%be%d0%bc%d0%b8%d1%8f-%d0%bc%d0%b5%d1%85%d0%b0%d0%bd/
CATEGORIES:Семинары
END:VEVENT
END:VCALENDAR