BEGIN:VCALENDAR
VERSION:2.0
PRODID:-//Magnifique Beauty School - ECPv4.7.0.1//NONSGML v1.0//EN
CALSCALE:GREGORIAN
METHOD:PUBLISH
X-WR-CALNAME:Magnifique Beauty School
X-ORIGINAL-URL:https://www.magnifique.com.ua
X-WR-CALDESC:Events for Magnifique Beauty School
BEGIN:VEVENT
DTSTART;TZID=UTC+3:20201224T100000
DTEND;TZID=UTC+3:20201224T150000
DTSTAMP:20260423T022655
CREATED:20201108T084612Z
LAST-MODIFIED:20201108T084612Z
UID:2121-1608804000-1608822000@www.magnifique.com.ua
SUMMARY:Семинар "Трихология. Мезотерапевтические методы лечения алопеции"
DESCRIPTION:
URL:https://www.magnifique.com.ua/event/%d1%81%d0%b5%d0%bc%d0%b8%d0%bd%d0%b0%d1%80-%d1%82%d1%80%d0%b8%d1%85%d0%be%d0%bb%d0%be%d0%b3%d0%b8%d1%8f-%d0%bc%d0%b5%d0%b7%d0%be%d1%82%d0%b5%d1%80%d0%b0%d0%bf%d0%b5%d0%b2%d1%82%d0%b8%d1%87%d0%b5-6/
CATEGORIES:Семинары
END:VEVENT
END:VCALENDAR