BEGIN:VCALENDAR
VERSION:2.0
PRODID:-//Magnifique Beauty School - ECPv4.7.0.1//NONSGML v1.0//EN
CALSCALE:GREGORIAN
METHOD:PUBLISH
X-WR-CALNAME:Magnifique Beauty School
X-ORIGINAL-URL:https://www.magnifique.com.ua
X-WR-CALDESC:Events for Magnifique Beauty School
BEGIN:VEVENT
DTSTART;TZID=UTC+3:20210111T100000
DTEND;TZID=UTC+3:20210111T120000
DTSTAMP:20260422T223042
CREATED:20201212T103650Z
LAST-MODIFIED:20201218T193154Z
UID:2139-1610359200-1610366400@www.magnifique.com.ua
SUMMARY:Семинар "Современные методы лечения акне"
DESCRIPTION:
URL:https://www.magnifique.com.ua/event/%d1%81%d0%b5%d0%bc%d0%b8%d0%bd%d0%b0%d1%80-%d1%81%d0%be%d0%b2%d1%80%d0%b5%d0%bc%d0%b5%d0%bd%d0%bd%d1%8b%d0%b5-%d0%bc%d0%b5%d1%82%d0%be%d0%b4%d1%8b-%d0%bb%d0%b5%d1%87%d0%b5%d0%bd%d0%b8%d1%8f-%d0%b0/
CATEGORIES:Семинары
END:VEVENT
END:VCALENDAR