BEGIN:VCALENDAR
VERSION:2.0
PRODID:-//Magnifique Beauty School - ECPv4.7.0.1//NONSGML v1.0//EN
CALSCALE:GREGORIAN
METHOD:PUBLISH
X-WR-CALNAME:Magnifique Beauty School
X-ORIGINAL-URL:https://www.magnifique.com.ua
X-WR-CALDESC:Events for Magnifique Beauty School
BEGIN:VEVENT
DTSTART;TZID=UTC+3:20211001T130000
DTEND;TZID=UTC+3:20211001T160000
DTSTAMP:20260424T032426
CREATED:20210915T013948Z
LAST-MODIFIED:20210915T013948Z
UID:2764-1633093200-1633104000@www.magnifique.com.ua
SUMMARY:Семинар "Полинуклеотиды в коррекции эстетических недостатков кожи лица и тела"
DESCRIPTION:
URL:https://www.magnifique.com.ua/event/%d1%81%d0%b5%d0%bc%d0%b8%d0%bd%d0%b0%d1%80-%d0%bf%d0%be%d0%bb%d0%b8%d0%bd%d1%83%d0%ba%d0%bb%d0%b5%d0%be%d1%82%d0%b8%d0%b4%d1%8b-%d0%b2-%d0%ba%d0%be%d1%80%d1%80%d0%b5%d0%ba%d1%86%d0%b8%d0%b8-%d1%8d/
CATEGORIES:Семинары
END:VEVENT
END:VCALENDAR