BEGIN:VCALENDAR
VERSION:2.0
PRODID:-//Magnifique Beauty School - ECPv4.7.0.1//NONSGML v1.0//EN
CALSCALE:GREGORIAN
METHOD:PUBLISH
X-WR-CALNAME:Magnifique Beauty School
X-ORIGINAL-URL:https://www.magnifique.com.ua
X-WR-CALDESC:Events for Magnifique Beauty School
BEGIN:VEVENT
DTSTART;TZID=UTC+3:20191206T100000
DTEND;TZID=UTC+3:20191206T130000
DTSTAMP:20260425T114828
CREATED:20191022T072954Z
LAST-MODIFIED:20191022T072954Z
UID:948-1575626400-1575637200@www.magnifique.com.ua
SUMMARY:Семинар «Поверхностные химические пилинги»
DESCRIPTION:
URL:https://www.magnifique.com.ua/event/%d1%81%d0%b5%d0%bc%d0%b8%d0%bd%d0%b0%d1%80-%d0%bf%d0%be%d0%b2%d0%b5%d1%80%d1%85%d0%bd%d0%be%d1%81%d1%82%d0%bd%d1%8b%d0%b5-%d1%85%d0%b8%d0%bc%d0%b8%d1%87%d0%b5%d1%81%d0%ba%d0%b8%d0%b5-%d0%bf/
CATEGORIES:Семинары
END:VEVENT
END:VCALENDAR