BEGIN:VCALENDAR
VERSION:2.0
PRODID:-//Magnifique Beauty School - ECPv4.7.0.1//NONSGML v1.0//EN
CALSCALE:GREGORIAN
METHOD:PUBLISH
X-WR-CALNAME:Magnifique Beauty School
X-ORIGINAL-URL:https://www.magnifique.com.ua
X-WR-CALDESC:Events for Magnifique Beauty School
BEGIN:VEVENT
DTSTART;TZID=UTC+3:20210212T100000
DTEND;TZID=UTC+3:20210212T130000
DTSTAMP:20260422T211244
CREATED:20201224T100512Z
LAST-MODIFIED:20201224T100512Z
UID:2220-1613124000-1613134800@www.magnifique.com.ua
SUMMARY:Семинар "Поверхностно-срединные и срединные химческие пилинги"
DESCRIPTION:
URL:https://www.magnifique.com.ua/event/%d1%81%d0%b5%d0%bc%d0%b8%d0%bd%d0%b0%d1%80-%d0%bf%d0%be%d0%b2%d0%b5%d1%80%d1%85%d0%bd%d0%be%d1%81%d1%82%d0%bd%d0%be-%d1%81%d1%80%d0%b5%d0%b4%d0%b8%d0%bd%d0%bd%d1%8b%d0%b5-%d0%b8-%d1%81%d1%80%d0%b5-14/
CATEGORIES:Семинары
END:VEVENT
END:VCALENDAR