BEGIN:VCALENDAR
VERSION:2.0
PRODID:-//Magnifique Beauty School - ECPv4.7.0.1//NONSGML v1.0//EN
CALSCALE:GREGORIAN
METHOD:PUBLISH
X-WR-CALNAME:Magnifique Beauty School
X-ORIGINAL-URL:https://www.magnifique.com.ua
X-WR-CALDESC:Events for Magnifique Beauty School
BEGIN:VEVENT
DTSTART;TZID=UTC+3:20210923T130000
DTEND;TZID=UTC+3:20210923T160000
DTSTAMP:20260424T084322
CREATED:20210804T172752Z
LAST-MODIFIED:20210804T172752Z
UID:2708-1632402000-1632412800@www.magnifique.com.ua
SUMMARY:Семинар "Неотложные состояния в кабинете косметолога"
DESCRIPTION:
URL:https://www.magnifique.com.ua/event/%d1%81%d0%b5%d0%bc%d0%b8%d0%bd%d0%b0%d1%80-%d0%bd%d0%b5%d0%be%d1%82%d0%bb%d0%be%d0%b6%d0%bd%d1%8b%d0%b5-%d1%81%d0%be%d1%81%d1%82%d0%be%d1%8f%d0%bd%d0%b8%d1%8f-%d0%b2-%d0%ba%d0%b0%d0%b1%d0%b8%d0%bd-2/
CATEGORIES:Семинары
END:VEVENT
END:VCALENDAR