BEGIN:VCALENDAR
VERSION:2.0
PRODID:-//Magnifique Beauty School - ECPv4.7.0.1//NONSGML v1.0//EN
CALSCALE:GREGORIAN
METHOD:PUBLISH
X-WR-CALNAME:Magnifique Beauty School
X-ORIGINAL-URL:https://www.magnifique.com.ua
X-WR-CALDESC:Events for Magnifique Beauty School
BEGIN:VEVENT
DTSTART;TZID=UTC+3:20200212T100000
DTEND;TZID=UTC+3:20200212T130000
DTSTAMP:20260425T000114
CREATED:20191129T151509Z
LAST-MODIFIED:20200119T171054Z
UID:1111-1581501600-1581512400@www.magnifique.com.ua
SUMMARY:Семинар "Карбокситерапия и неинвазивная энзимная ферментотерапия"
DESCRIPTION:
URL:https://www.magnifique.com.ua/event/%d1%81%d0%b5%d0%bc%d0%b8%d0%bd%d0%b0%d1%80-%d0%bd%d0%b5%d0%b8%d0%bd%d0%b2%d0%b0%d0%b7%d0%b8%d0%b2%d0%bd%d0%b0%d1%8f-%d1%8d%d0%bd%d0%b7%d0%b8%d0%bc%d0%bd%d0%b0%d1%8f-%d1%84%d0%b5%d1%80%d0%bc%d0%b5-6/
CATEGORIES:Семинары
END:VEVENT
END:VCALENDAR