BEGIN:VCALENDAR
VERSION:2.0
PRODID:-//Magnifique Beauty School - ECPv4.7.0.1//NONSGML v1.0//EN
CALSCALE:GREGORIAN
METHOD:PUBLISH
X-WR-CALNAME:Magnifique Beauty School
X-ORIGINAL-URL:https://www.magnifique.com.ua
X-WR-CALDESC:Events for Magnifique Beauty School
BEGIN:VEVENT
DTSTART;TZID=UTC+3:20211021T130000
DTEND;TZID=UTC+3:20211021T160000
DTSTAMP:20260423T142034
CREATED:20210915T015553Z
LAST-MODIFIED:20210915T015553Z
UID:2802-1634821200-1634832000@www.magnifique.com.ua
SUMMARY:Семинар "Методы коррекции лица аппаратом Plasmajett"
DESCRIPTION:
URL:https://www.magnifique.com.ua/event/%d1%81%d0%b5%d0%bc%d0%b8%d0%bd%d0%b0%d1%80-%d0%bc%d0%b5%d1%82%d0%be%d0%b4%d1%8b-%d0%ba%d0%be%d1%80%d1%80%d0%b5%d0%ba%d1%86%d0%b8%d0%b8-%d0%bb%d0%b8%d1%86%d0%b0-%d0%b0%d0%bf%d0%bf%d0%b0%d1%80%d0%b0/
CATEGORIES:Семинары
END:VEVENT
END:VCALENDAR