BEGIN:VCALENDAR
VERSION:2.0
PRODID:-//Magnifique Beauty School - ECPv4.7.0.1//NONSGML v1.0//EN
CALSCALE:GREGORIAN
METHOD:PUBLISH
X-WR-CALNAME:Magnifique Beauty School
X-ORIGINAL-URL:https://www.magnifique.com.ua
X-WR-CALDESC:Events for Magnifique Beauty School
BEGIN:VEVENT
DTSTART;TZID=UTC+3:20210927T130000
DTEND;TZID=UTC+3:20210927T160000
DTSTAMP:20260424T060254
CREATED:20210819T073748Z
LAST-MODIFIED:20210819T073748Z
UID:2757-1632747600-1632758400@www.magnifique.com.ua
SUMMARY:Семинар "Лифтинговый лимфодренажный массаж лица"
DESCRIPTION:
URL:https://www.magnifique.com.ua/event/%d1%81%d0%b5%d0%bc%d0%b8%d0%bd%d0%b0%d1%80-%d0%bb%d0%b8%d1%84%d1%82%d0%b8%d0%bd%d0%b3%d0%be%d0%b2%d1%8b%d0%b9-%d0%bb%d0%b8%d0%bc%d1%84%d0%be%d0%b4%d1%80%d0%b5%d0%bd%d0%b0%d0%b6%d0%bd%d1%8b%d0%b9/
CATEGORIES:Семинары
END:VEVENT
END:VCALENDAR