BEGIN:VCALENDAR
VERSION:2.0
PRODID:-//Magnifique Beauty School - ECPv4.7.0.1//NONSGML v1.0//EN
CALSCALE:GREGORIAN
METHOD:PUBLISH
X-WR-CALNAME:Magnifique Beauty School
X-ORIGINAL-URL:https://www.magnifique.com.ua
X-WR-CALDESC:Events for Magnifique Beauty School
BEGIN:VEVENT
DTSTART;TZID=UTC+3:20201127T100000
DTEND;TZID=UTC+3:20201127T140000
DTSTAMP:20260423T065406
CREATED:20201011T162703Z
LAST-MODIFIED:20201024T185051Z
UID:2000-1606471200-1606485600@www.magnifique.com.ua
SUMMARY:Семинар "Липолитики в мезотерапии лица и тела"
DESCRIPTION:
URL:https://www.magnifique.com.ua/event/%d1%81%d0%b5%d0%bc%d0%b8%d0%bd%d0%b0%d1%80-%d0%bb%d0%b8%d0%bf%d0%be%d0%bb%d0%b8%d1%82%d0%b8%d0%ba%d0%b8-%d0%b2-%d0%bc%d0%b5%d0%b7%d0%be%d1%82%d0%b5%d1%80%d0%b0%d0%bf%d0%b8%d0%b8-%d0%bb%d0%b8%d1%86-13/
CATEGORIES:Семинары
END:VEVENT
END:VCALENDAR