BEGIN:VCALENDAR
VERSION:2.0
PRODID:-//Magnifique Beauty School - ECPv4.7.0.1//NONSGML v1.0//EN
CALSCALE:GREGORIAN
METHOD:PUBLISH
X-WR-CALNAME:Magnifique Beauty School
X-ORIGINAL-URL:https://www.magnifique.com.ua
X-WR-CALDESC:Events for Magnifique Beauty School
BEGIN:VEVENT
DTSTART;TZID=UTC+3:20210817T130000
DTEND;TZID=UTC+3:20210817T160000
DTSTAMP:20260424T103414
CREATED:20210721T183441Z
LAST-MODIFIED:20210721T183441Z
UID:2656-1629205200-1629216000@www.magnifique.com.ua
SUMMARY:Семинар "Летние химические пилинги"
DESCRIPTION:
URL:https://www.magnifique.com.ua/event/%d1%81%d0%b5%d0%bc%d0%b8%d0%bd%d0%b0%d1%80-%d0%bb%d0%b5%d1%82%d0%bd%d0%b8%d0%b5-%d1%85%d0%b8%d0%bc%d0%b8%d1%87%d0%b5%d1%81%d0%ba%d0%b8%d0%b5-%d0%bf%d0%b8%d0%bb%d0%b8%d0%bd%d0%b3%d0%b8-3/
CATEGORIES:Семинары
END:VEVENT
END:VCALENDAR