BEGIN:VCALENDAR
VERSION:2.0
PRODID:-//Magnifique Beauty School - ECPv4.7.0.1//NONSGML v1.0//EN
CALSCALE:GREGORIAN
METHOD:PUBLISH
X-WR-CALNAME:Magnifique Beauty School
X-ORIGINAL-URL:https://www.magnifique.com.ua
X-WR-CALDESC:Events for Magnifique Beauty School
BEGIN:VEVENT
DTSTART;TZID=UTC+3:20211101T130000
DTEND;TZID=UTC+3:20211101T160000
DTSTAMP:20260423T121651
CREATED:20211007T072004Z
LAST-MODIFIED:20211007T072004Z
UID:2832-1635771600-1635782400@www.magnifique.com.ua
SUMMARY:Семинар "Купероз и пигментация в практике косметолога"
DESCRIPTION:
URL:https://www.magnifique.com.ua/event/%d1%81%d0%b5%d0%bc%d0%b8%d0%bd%d0%b0%d1%80-%d0%ba%d1%83%d0%bf%d0%b5%d1%80%d0%be%d0%b7-%d0%b8-%d0%bf%d0%b8%d0%b3%d0%bc%d0%b5%d0%bd%d1%82%d0%b0%d1%86%d0%b8%d1%8f-%d0%b2-%d0%bf%d1%80%d0%b0%d0%ba%d1%82-2/
CATEGORIES:Семинары
END:VEVENT
END:VCALENDAR