BEGIN:VCALENDAR
VERSION:2.0
PRODID:-//Magnifique Beauty School - ECPv4.7.0.1//NONSGML v1.0//EN
CALSCALE:GREGORIAN
METHOD:PUBLISH
X-WR-CALNAME:Magnifique Beauty School
X-ORIGINAL-URL:https://www.magnifique.com.ua
X-WR-CALDESC:Events for Magnifique Beauty School
BEGIN:VEVENT
DTSTART;TZID=UTC+3:20220304T130000
DTEND;TZID=UTC+3:20220304T160000
DTSTAMP:20260420T113500
CREATED:20220206T165905Z
LAST-MODIFIED:20220206T165905Z
UID:3093-1646398800-1646409600@www.magnifique.com.ua
SUMMARY:Семинар "Клиническая анатомия лица и шеи"
DESCRIPTION:
URL:https://www.magnifique.com.ua/event/%d1%81%d0%b5%d0%bc%d0%b8%d0%bd%d0%b0%d1%80-%d0%ba%d0%bb%d0%b8%d0%bd%d0%b8%d1%87%d0%b5%d1%81%d0%ba%d0%b0%d1%8f-%d0%b0%d0%bd%d0%b0%d1%82%d0%be%d0%bc%d0%b8%d1%8f-%d0%bb%d0%b8%d1%86%d0%b0-%d0%b8-%d1%88-7/
CATEGORIES:Семинары
END:VEVENT
END:VCALENDAR