BEGIN:VCALENDAR
VERSION:2.0
PRODID:-//Magnifique Beauty School - ECPv4.7.0.1//NONSGML v1.0//EN
CALSCALE:GREGORIAN
METHOD:PUBLISH
X-WR-CALNAME:Magnifique Beauty School
X-ORIGINAL-URL:https://www.magnifique.com.ua
X-WR-CALDESC:Events for Magnifique Beauty School
BEGIN:VEVENT
DTSTART;TZID=UTC+3:20200708T100000
DTEND;TZID=UTC+3:20200708T130000
DTSTAMP:20260424T020213
CREATED:20200602T063006Z
LAST-MODIFIED:20200602T063006Z
UID:1716-1594202400-1594213200@www.magnifique.com.ua
SUMMARY:Семинар "Карбокситерапия и неинвазивная энзимная ферментотерапия"
DESCRIPTION:
URL:https://www.magnifique.com.ua/event/%d1%81%d0%b5%d0%bc%d0%b8%d0%bd%d0%b0%d1%80-%d0%ba%d0%b0%d1%80%d0%b1%d0%be%d0%ba%d1%81%d0%b8%d1%82%d0%b5%d1%80%d0%b0%d0%bf%d0%b8%d1%8f-%d0%b8-%d0%bd%d0%b5%d0%b8%d0%bd%d0%b2%d0%b0%d0%b7%d0%b8%d0%b2-4/
CATEGORIES:Семинары
END:VEVENT
END:VCALENDAR