BEGIN:VCALENDAR
VERSION:2.0
PRODID:-//Magnifique Beauty School - ECPv4.7.0.1//NONSGML v1.0//EN
CALSCALE:GREGORIAN
METHOD:PUBLISH
X-WR-CALNAME:Magnifique Beauty School
X-ORIGINAL-URL:https://www.magnifique.com.ua
X-WR-CALDESC:Events for Magnifique Beauty School
BEGIN:VEVENT
DTSTART;TZID=UTC+3:20211220T130000
DTEND;TZID=UTC+3:20211220T160000
DTSTAMP:20260422T222824
CREATED:20211127T160054Z
LAST-MODIFIED:20211127T160054Z
UID:2969-1640005200-1640016000@www.magnifique.com.ua
SUMMARY:Семинар "Жидкие нити"
DESCRIPTION:
URL:https://www.magnifique.com.ua/event/%d1%81%d0%b5%d0%bc%d0%b8%d0%bd%d0%b0%d1%80-%d0%b6%d0%b8%d0%b4%d0%ba%d0%b8%d0%b5-%d0%bd%d0%b8%d1%82%d0%b8/
CATEGORIES:Семинары
END:VEVENT
END:VCALENDAR