BEGIN:VCALENDAR
VERSION:2.0
PRODID:-//Magnifique Beauty School - ECPv4.7.0.1//NONSGML v1.0//EN
CALSCALE:GREGORIAN
METHOD:PUBLISH
X-WR-CALNAME:Magnifique Beauty School
X-ORIGINAL-URL:https://www.magnifique.com.ua
X-WR-CALDESC:Events for Magnifique Beauty School
BEGIN:VEVENT
DTSTART;TZID=UTC+3:20220309T130000
DTEND;TZID=UTC+3:20220309T160000
DTSTAMP:20260420T113408
CREATED:20220222T171020Z
LAST-MODIFIED:20220222T171151Z
UID:3147-1646830800-1646841600@www.magnifique.com.ua
SUMMARY:Семинар "Дермаштамп и мезороллер в косметологии"
DESCRIPTION:
URL:https://www.magnifique.com.ua/event/%d1%81%d0%b5%d0%bc%d0%b8%d0%bd%d0%b0%d1%80-%d0%b4%d0%b5%d1%80%d0%bc%d0%b0%d1%88%d1%82%d0%b0%d0%bc%d0%bf-%d0%b8-%d0%bc%d0%b5%d0%b7%d0%be%d1%80%d0%be%d0%bb%d0%bb%d0%b5%d1%80-%d0%b2-%d0%ba%d0%be%d1%81-24/
CATEGORIES:Семинары
END:VEVENT
END:VCALENDAR