BEGIN:VCALENDAR
VERSION:2.0
PRODID:-//Magnifique Beauty School - ECPv4.7.0.1//NONSGML v1.0//EN
CALSCALE:GREGORIAN
METHOD:PUBLISH
X-WR-CALNAME:Magnifique Beauty School
X-ORIGINAL-URL:https://www.magnifique.com.ua
X-WR-CALDESC:Events for Magnifique Beauty School
BEGIN:VEVENT
DTSTART;TZID=UTC+3:20200331T100000
DTEND;TZID=UTC+3:20200331T130000
DTSTAMP:20260424T145638
CREATED:20200112T185347Z
LAST-MODIFIED:20200112T185347Z
UID:1239-1585648800-1585659600@www.magnifique.com.ua
SUMMARY:Семинар "Все об увлажнении кожи"
DESCRIPTION:
URL:https://www.magnifique.com.ua/event/%d1%81%d0%b5%d0%bc%d0%b8%d0%bd%d0%b0%d1%80-%d0%b2%d1%81%d0%b5-%d0%be%d0%b1-%d1%83%d0%b2%d0%bb%d0%b0%d0%b6%d0%bd%d0%b5%d0%bd%d0%b8%d0%b8-%d0%ba%d0%be%d0%b6%d0%b8-4/
CATEGORIES:Семинары
END:VEVENT
END:VCALENDAR