BEGIN:VCALENDAR
VERSION:2.0
PRODID:-//Magnifique Beauty School - ECPv4.7.0.1//NONSGML v1.0//EN
CALSCALE:GREGORIAN
METHOD:PUBLISH
X-WR-CALNAME:Magnifique Beauty School
X-ORIGINAL-URL:https://www.magnifique.com.ua
X-WR-CALDESC:Events for Magnifique Beauty School
BEGIN:VEVENT
DTSTART;TZID=UTC+3:20210325T130000
DTEND;TZID=UTC+3:20210325T160000
DTSTAMP:20260423T021050
CREATED:20210114T073830Z
LAST-MODIFIED:20210220T185906Z
UID:2291-1616677200-1616688000@www.magnifique.com.ua
SUMMARY:Семинар "Все виды косметологических чисток"
DESCRIPTION:
URL:https://www.magnifique.com.ua/event/%d1%81%d0%b5%d0%bc%d0%b8%d0%bd%d0%b0%d1%80-%d0%b2%d1%81%d0%b5-%d0%b2%d0%b8%d0%b4%d1%8b-%d0%ba%d0%be%d1%81%d0%bc%d0%b5%d1%82%d0%be%d0%bb%d0%be%d0%b3%d0%b8%d1%87%d0%b5%d1%81%d0%ba%d0%b8%d1%85-%d1%87-18/
CATEGORIES:Семинары
END:VEVENT
END:VCALENDAR