BEGIN:VCALENDAR
VERSION:2.0
PRODID:-//Magnifique Beauty School - ECPv4.7.0.1//NONSGML v1.0//EN
CALSCALE:GREGORIAN
METHOD:PUBLISH
X-WR-CALNAME:Magnifique Beauty School
X-ORIGINAL-URL:https://www.magnifique.com.ua
X-WR-CALDESC:Events for Magnifique Beauty School
BEGIN:VEVENT
DTSTART;TZID=UTC+3:20220311T100000
DTEND;TZID=UTC+3:20220311T170000
DTSTAMP:20260420T113437
CREATED:20220220T220555Z
LAST-MODIFIED:20220220T220555Z
UID:3139-1646992800-1647018000@www.magnifique.com.ua
SUMMARY:Семинар "Векторное моделирование лица коллагенстимуляторами"
DESCRIPTION:
URL:https://www.magnifique.com.ua/event/%d1%81%d0%b5%d0%bc%d0%b8%d0%bd%d0%b0%d1%80-%d0%b2%d0%b5%d0%ba%d1%82%d0%be%d1%80%d0%bd%d0%be%d0%b5-%d0%bc%d0%be%d0%b4%d0%b5%d0%bb%d0%b8%d1%80%d0%be%d0%b2%d0%b0%d0%bd%d0%b8%d0%b5-%d0%bb%d0%b8%d1%86-2/
CATEGORIES:Семинары
END:VEVENT
END:VCALENDAR