BEGIN:VCALENDAR
VERSION:2.0
PRODID:-//Magnifique Beauty School - ECPv4.7.0.1//NONSGML v1.0//EN
CALSCALE:GREGORIAN
METHOD:PUBLISH
X-WR-CALNAME:Magnifique Beauty School
X-ORIGINAL-URL:https://www.magnifique.com.ua
X-WR-CALDESC:Events for Magnifique Beauty School
BEGIN:VEVENT
DTSTART;TZID=UTC+3:20210105T100000
DTEND;TZID=UTC+3:20210105T130000
DTSTAMP:20260422T223318
CREATED:20201212T113100Z
LAST-MODIFIED:20201218T193321Z
UID:2153-1609840800-1609851600@www.magnifique.com.ua
SUMMARY:Семинар "Аппаратные методики коррекции фигуры. Антицеллюлитные программы"
DESCRIPTION:
URL:https://www.magnifique.com.ua/event/%d1%81%d0%b5%d0%bc%d0%b8%d0%bd%d0%b0%d1%80-%d0%b0%d0%bf%d0%bf%d0%b0%d1%80%d0%b0%d1%82%d0%bd%d1%8b%d0%b5-%d0%bc%d0%b5%d1%82%d0%be%d0%b4%d0%b8%d0%ba%d0%b8-%d0%ba%d0%be%d1%80%d1%80%d0%b5%d0%ba%d1%86-15/
CATEGORIES:Семинары
END:VEVENT
END:VCALENDAR