BEGIN:VCALENDAR
VERSION:2.0
PRODID:-//Magnifique Beauty School - ECPv4.7.0.1//NONSGML v1.0//EN
CALSCALE:GREGORIAN
METHOD:PUBLISH
X-WR-CALNAME:Magnifique Beauty School
X-ORIGINAL-URL:https://www.magnifique.com.ua
X-WR-CALDESC:Events for Magnifique Beauty School
BEGIN:VEVENT
DTSTART;TZID=UTC+3:20220623T120000
DTEND;TZID=UTC+3:20220623T150000
DTSTAMP:20260420T060841
CREATED:20220518T172609Z
LAST-MODIFIED:20220518T172609Z
UID:3213-1655985600-1655996400@www.magnifique.com.ua
SUMMARY:Онлайн-курс "Хімічні пілінги"
DESCRIPTION:
URL:https://www.magnifique.com.ua/event/%d0%be%d0%bd%d0%bb%d0%b0%d0%b9%d0%bd-%d0%ba%d1%83%d1%80%d1%81-%d1%85%d1%96%d0%bc%d1%96%d1%87%d0%bd%d1%96-%d0%bf%d1%96%d0%bb%d1%96%d0%bd%d0%b3%d0%b8/
CATEGORIES:Курсы
END:VEVENT
END:VCALENDAR