BEGIN:VCALENDAR
VERSION:2.0
PRODID:-//Magnifique Beauty School - ECPv4.7.0.1//NONSGML v1.0//EN
CALSCALE:GREGORIAN
METHOD:PUBLISH
X-WR-CALNAME:Magnifique Beauty School
X-ORIGINAL-URL:https://www.magnifique.com.ua
X-WR-CALDESC:Events for Magnifique Beauty School
BEGIN:VEVENT
DTSTART;TZID=UTC+3:20220621T120000
DTEND;TZID=UTC+3:20220621T140000
DTSTAMP:20260417T230255
CREATED:20220517T133334Z
LAST-MODIFIED:20220518T121024Z
UID:3194-1655812800-1655820000@www.magnifique.com.ua
SUMMARY:Онлайн-курс "Основи медичних знань для косметологів"
DESCRIPTION:
URL:https://www.magnifique.com.ua/event/%d0%be%d0%bd%d0%bb%d0%b0%d0%b9%d0%bd-%d0%ba%d1%83%d1%80%d1%81-%d0%be%d1%81%d0%bd%d0%be%d0%b2%d0%b8-%d0%bc%d0%b5%d0%b4%d0%b8%d1%87%d0%bd%d0%b8%d1%85-%d0%b7%d0%bd%d0%b0%d0%bd%d1%8c-%d0%b4%d0%bb%d1%8f/
CATEGORIES:Курсы
END:VEVENT
END:VCALENDAR