BEGIN:VCALENDAR
VERSION:2.0
PRODID:-//Magnifique Beauty School - ECPv4.7.0.1//NONSGML v1.0//EN
CALSCALE:GREGORIAN
METHOD:PUBLISH
X-WR-CALNAME:Magnifique Beauty School
X-ORIGINAL-URL:https://www.magnifique.com.ua
X-WR-CALDESC:Events for Magnifique Beauty School
BEGIN:VEVENT
DTSTART;TZID=UTC+3:20200610T100000
DTEND;TZID=UTC+3:20200610T130000
DTSTAMP:20260424T003618
CREATED:20200521T134823Z
LAST-MODIFIED:20200521T134823Z
UID:1690-1591783200-1591794000@www.magnifique.com.ua
SUMMARY:Обзорный семинар по профессиональной косметике Repêchage
DESCRIPTION:
URL:https://www.magnifique.com.ua/event/%d0%be%d0%b1%d0%b7%d0%be%d1%80%d0%bd%d1%8b%d0%b9-%d1%81%d0%b5%d0%bc%d0%b8%d0%bd%d0%b0%d1%80-%d0%bf%d0%be-%d0%bf%d1%80%d0%be%d1%84%d0%b5%d1%81%d1%81%d0%b8%d0%be%d0%bd%d0%b0%d0%bb%d1%8c%d0%bd%d0%be/
CATEGORIES:Семинары
END:VEVENT
END:VCALENDAR