BEGIN:VCALENDAR
VERSION:2.0
PRODID:-//Magnifique Beauty School - ECPv4.7.0.1//NONSGML v1.0//EN
CALSCALE:GREGORIAN
METHOD:PUBLISH
X-WR-CALNAME:Magnifique Beauty School
X-ORIGINAL-URL:https://www.magnifique.com.ua
X-WR-CALDESC:Events for Magnifique Beauty School
BEGIN:VEVENT
DTSTART;TZID=UTC+3:20201006T100000
DTEND;TZID=UTC+3:20201006T130000
DTSTAMP:20260423T164835
CREATED:20200917T053855Z
LAST-MODIFIED:20200917T053855Z
UID:1980-1601978400-1601989200@www.magnifique.com.ua
SUMMARY:Обзорный семинар по космецевтическим средствам ТМ SHOR
DESCRIPTION:
URL:https://www.magnifique.com.ua/event/%d0%be%d0%b1%d0%b7%d0%be%d1%80%d0%bd%d1%8b%d0%b9-%d1%81%d0%b5%d0%bc%d0%b8%d0%bd%d0%b0%d1%80-%d0%bf%d0%be-%d0%ba%d0%be%d1%81%d0%bc%d0%b5%d1%86%d0%b5%d0%b2%d1%82%d0%b8%d1%87%d0%b5%d1%81%d0%ba%d0%b8/
CATEGORIES:Семинары
END:VEVENT
END:VCALENDAR