BEGIN:VCALENDAR
VERSION:2.0
PRODID:-//Magnifique Beauty School - ECPv4.7.0.1//NONSGML v1.0//EN
CALSCALE:GREGORIAN
METHOD:PUBLISH
X-WR-CALNAME:Magnifique Beauty School
X-ORIGINAL-URL:https://www.magnifique.com.ua
X-WR-CALDESC:Events for Magnifique Beauty School
BEGIN:VEVENT
DTSTART;TZID=UTC+3:20200615T100000
DTEND;TZID=UTC+3:20200615T160000
DTSTAMP:20260424T020213
CREATED:20200511T163745Z
LAST-MODIFIED:20200511T163745Z
UID:1645-1592215200-1592236800@www.magnifique.com.ua
SUMMARY:Мастер-класс "Методика нитевого лифтинга"
DESCRIPTION:
URL:https://www.magnifique.com.ua/event/%d0%bc%d0%b0%d1%81%d1%82%d0%b5%d1%80-%d0%ba%d0%bb%d0%b0%d1%81%d1%81-%d0%bc%d0%b5%d1%82%d0%be%d0%b4%d0%b8%d0%ba%d0%b0-%d0%bd%d0%b8%d1%82%d0%b5%d0%b2%d0%be%d0%b3%d0%be-%d0%bb%d0%b8%d1%84%d1%82%d0%b8-3/
CATEGORIES:Курсы
END:VEVENT
END:VCALENDAR