BEGIN:VCALENDAR
VERSION:2.0
PRODID:-//Magnifique Beauty School - ECPv4.7.0.1//NONSGML v1.0//EN
CALSCALE:GREGORIAN
METHOD:PUBLISH
X-WR-CALNAME:Magnifique Beauty School
X-ORIGINAL-URL:https://www.magnifique.com.ua
X-WR-CALDESC:Events for Magnifique Beauty School
BEGIN:VEVENT
DTSTART;TZID=UTC+3:20200925T100000
DTEND;TZID=UTC+3:20200925T170000
DTSTAMP:20260423T181123
CREATED:20200723T091722Z
LAST-MODIFIED:20200723T091722Z
UID:1889-1601028000-1601053200@www.magnifique.com.ua
SUMMARY:Мастер-класс "Безоперационная ринопластика"
DESCRIPTION:
URL:https://www.magnifique.com.ua/event/%d0%bc%d0%b0%d1%81%d1%82%d0%b5%d1%80-%d0%ba%d0%bb%d0%b0%d1%81%d1%81-%d0%b1%d0%b5%d0%b7%d0%be%d0%bf%d0%b5%d1%80%d0%b0%d1%86%d0%b8%d0%be%d0%bd%d0%bd%d0%b0%d1%8f-%d1%80%d0%b8%d0%bd%d0%be%d0%bf%d0%bb-9/
CATEGORIES:Курсы
END:VEVENT
END:VCALENDAR