BEGIN:VCALENDAR
VERSION:2.0
PRODID:-//Magnifique Beauty School - ECPv4.7.0.1//NONSGML v1.0//EN
CALSCALE:GREGORIAN
METHOD:PUBLISH
X-WR-CALNAME:Magnifique Beauty School
X-ORIGINAL-URL:https://www.magnifique.com.ua
X-WR-CALDESC:Events for Magnifique Beauty School
BEGIN:VEVENT
DTSTART;TZID=UTC+3:20201020T100000
DTEND;TZID=UTC+3:20201020T130000
DTSTAMP:20260423T113154
CREATED:20200821T201239Z
LAST-MODIFIED:20201004T234555Z
UID:1952-1603188000-1603198800@www.magnifique.com.ua
SUMMARY:Семинар «Трихология. Мезотерапевтические методы лечения алопеции»
DESCRIPTION:
URL:https://www.magnifique.com.ua/event/%d0%bc%d0%b0%d1%81%d1%82%d0%b5%d1%80-%d0%ba%d0%bb%d0%b0%d1%81%d1%81-%d0%b1%d0%b5%d0%b7%d0%be%d0%bf%d0%b5%d1%80%d0%b0%d1%86%d0%b8%d0%be%d0%bd%d0%bd%d0%b0%d1%8f-%d1%80%d0%b8%d0%bd%d0%be%d0%bf%d0%bb-10/
CATEGORIES:Семинары
END:VEVENT
END:VCALENDAR