BEGIN:VCALENDAR
VERSION:2.0
PRODID:-//Magnifique Beauty School - ECPv4.7.0.1//NONSGML v1.0//EN
CALSCALE:GREGORIAN
METHOD:PUBLISH
X-WR-CALNAME:Magnifique Beauty School
X-ORIGINAL-URL:https://www.magnifique.com.ua
X-WR-CALDESC:Events for Magnifique Beauty School
BEGIN:VEVENT
DTSTART;TZID=UTC+3:20210729T100000
DTEND;TZID=UTC+3:20210729T170000
DTSTAMP:20260424T131552
CREATED:20210608T072714Z
LAST-MODIFIED:20210610T213725Z
UID:2605-1627552800-1627578000@www.magnifique.com.ua
SUMMARY:Семинар «SMAS лифтинг»
DESCRIPTION:
URL:https://www.magnifique.com.ua/event/%d0%ba%d1%83%d1%80%d1%81-smas-%d0%bb%d0%b8%d1%84%d1%82%d0%b8%d0%bd%d0%b3-2/
CATEGORIES:Семинары
END:VEVENT
END:VCALENDAR