BEGIN:VCALENDAR
VERSION:2.0
PRODID:-//Magnifique Beauty School - ECPv4.7.0.1//NONSGML v1.0//EN
CALSCALE:GREGORIAN
METHOD:PUBLISH
X-WR-CALNAME:Magnifique Beauty School
X-ORIGINAL-URL:https://www.magnifique.com.ua
X-WR-CALDESC:Events for Magnifique Beauty School
BEGIN:VEVENT
DTSTART;TZID=UTC+3:20200204T100000
DTEND;TZID=UTC+3:20200204T160000
DTSTAMP:20260424T191515
CREATED:20191126T143808Z
LAST-MODIFIED:20191126T143808Z
UID:1087-1580810400-1580832000@www.magnifique.com.ua
SUMMARY:Курс "Brow-Master"
DESCRIPTION:
URL:https://www.magnifique.com.ua/event/%d0%ba%d1%83%d1%80%d1%81-brow-master-9/
CATEGORIES:Курсы
END:VEVENT
END:VCALENDAR