BEGIN:VCALENDAR
VERSION:2.0
PRODID:-//Magnifique Beauty School - ECPv4.7.0.1//NONSGML v1.0//EN
CALSCALE:GREGORIAN
METHOD:PUBLISH
X-WR-CALNAME:Magnifique Beauty School
X-ORIGINAL-URL:https://www.magnifique.com.ua
X-WR-CALDESC:Events for Magnifique Beauty School
BEGIN:VEVENT
DTSTART;TZID=UTC+3:20210413T100000
DTEND;TZID=UTC+3:20210413T170000
DTSTAMP:20260423T044616
CREATED:20210227T133223Z
LAST-MODIFIED:20210227T133223Z
UID:2373-1618308000-1618333200@www.magnifique.com.ua
SUMMARY:Курс "Brow Master"
DESCRIPTION:
URL:https://www.magnifique.com.ua/event/%d0%ba%d1%83%d1%80%d1%81-brow-master-22/
CATEGORIES:Курсы
END:VEVENT
END:VCALENDAR