BEGIN:VCALENDAR
VERSION:2.0
PRODID:-//Magnifique Beauty School - ECPv4.7.0.1//NONSGML v1.0//EN
CALSCALE:GREGORIAN
METHOD:PUBLISH
X-WR-CALNAME:Magnifique Beauty School
X-ORIGINAL-URL:https://www.magnifique.com.ua
X-WR-CALDESC:Events for Magnifique Beauty School
BEGIN:VEVENT
DTSTART;TZID=UTC+3:20210216T100000
DTEND;TZID=UTC+3:20210216T170000
DTSTAMP:20260422T222816
CREATED:20201224T100842Z
LAST-MODIFIED:20201224T100842Z
UID:2226-1613469600-1613494800@www.magnifique.com.ua
SUMMARY:Курс "Brow Master"
DESCRIPTION:
URL:https://www.magnifique.com.ua/event/%d0%ba%d1%83%d1%80%d1%81-brow-master-20/
CATEGORIES:Курсы
END:VEVENT
END:VCALENDAR