BEGIN:VCALENDAR
VERSION:2.0
PRODID:-//Magnifique Beauty School - ECPv4.7.0.1//NONSGML v1.0//EN
CALSCALE:GREGORIAN
METHOD:PUBLISH
X-WR-CALNAME:Magnifique Beauty School
X-ORIGINAL-URL:https://www.magnifique.com.ua
X-WR-CALDESC:Events for Magnifique Beauty School
BEGIN:VEVENT
DTSTART;TZID=UTC+3:20200807T100000
DTEND;TZID=UTC+3:20200807T170000
DTSTAMP:20260423T230838
CREATED:20200616T213154Z
LAST-MODIFIED:20200616T213154Z
UID:1779-1596794400-1596819600@www.magnifique.com.ua
SUMMARY:Курс "Brow Master"
DESCRIPTION:
URL:https://www.magnifique.com.ua/event/%d0%ba%d1%83%d1%80%d1%81-brow-master-14/
CATEGORIES:Курсы
END:VEVENT
END:VCALENDAR