BEGIN:VCALENDAR
VERSION:2.0
PRODID:-//Magnifique Beauty School - ECPv4.7.0.1//NONSGML v1.0//EN
CALSCALE:GREGORIAN
METHOD:PUBLISH
X-WR-CALNAME:Magnifique Beauty School
X-ORIGINAL-URL:https://www.magnifique.com.ua
X-WR-CALDESC:Events for Magnifique Beauty School
BEGIN:VEVENT
DTSTART;TZID=UTC+3:20200323T100000
DTEND;TZID=UTC+3:20200323T150000
DTSTAMP:20260424T125821
CREATED:20191222T205829Z
LAST-MODIFIED:20191222T205829Z
UID:1217-1584957600-1584975600@www.magnifique.com.ua
SUMMARY:Курс "Brow Artist"
DESCRIPTION:
URL:https://www.magnifique.com.ua/event/%d0%ba%d1%83%d1%80%d1%81-brow-artist-9/
CATEGORIES:Курсы
END:VEVENT
END:VCALENDAR