BEGIN:VCALENDAR
VERSION:2.0
PRODID:-//Magnifique Beauty School - ECPv4.7.0.1//NONSGML v1.0//EN
CALSCALE:GREGORIAN
METHOD:PUBLISH
X-WR-CALNAME:Magnifique Beauty School
X-ORIGINAL-URL:https://www.magnifique.com.ua
X-WR-CALDESC:Events for Magnifique Beauty School
BEGIN:VEVENT
DTSTART;TZID=UTC+3:20220303T100000
DTEND;TZID=UTC+3:20220303T160000
DTSTAMP:20260420T113636
CREATED:20220206T165832Z
LAST-MODIFIED:20220206T165832Z
UID:3091-1646301600-1646323200@www.magnifique.com.ua
SUMMARY:Курс "Brow Artist"
DESCRIPTION:
URL:https://www.magnifique.com.ua/event/%d0%ba%d1%83%d1%80%d1%81-brow-artist-23/
CATEGORIES:Курсы
END:VEVENT
END:VCALENDAR