BEGIN:VCALENDAR
VERSION:2.0
PRODID:-//Magnifique Beauty School - ECPv4.7.0.1//NONSGML v1.0//EN
CALSCALE:GREGORIAN
METHOD:PUBLISH
X-WR-CALNAME:Magnifique Beauty School
X-ORIGINAL-URL:https://www.magnifique.com.ua
X-WR-CALDESC:Events for Magnifique Beauty School
BEGIN:VEVENT
DTSTART;TZID=UTC+3:20220114T100000
DTEND;TZID=UTC+3:20220114T160000
DTSTAMP:20260422T181944
CREATED:20211211T170845Z
LAST-MODIFIED:20211211T170845Z
UID:2989-1642154400-1642176000@www.magnifique.com.ua
SUMMARY:Курс "Brow Artist"
DESCRIPTION:
URL:https://www.magnifique.com.ua/event/%d0%ba%d1%83%d1%80%d1%81-brow-artist-21/
CATEGORIES:Курсы
END:VEVENT
END:VCALENDAR