BEGIN:VCALENDAR
VERSION:2.0
PRODID:-//Magnifique Beauty School - ECPv4.7.0.1//NONSGML v1.0//EN
CALSCALE:GREGORIAN
METHOD:PUBLISH
X-WR-CALNAME:Magnifique Beauty School
X-ORIGINAL-URL:https://www.magnifique.com.ua
X-WR-CALDESC:Events for Magnifique Beauty School
BEGIN:VEVENT
DTSTART;TZID=UTC+3:20201221T100000
DTEND;TZID=UTC+3:20201221T170000
DTSTAMP:20260423T015007
CREATED:20201108T084500Z
LAST-MODIFIED:20201128T084052Z
UID:2119-1608544800-1608570000@www.magnifique.com.ua
SUMMARY:Курс "Brow Artist"
DESCRIPTION:
URL:https://www.magnifique.com.ua/event/%d0%ba%d1%83%d1%80%d1%81-brow-artist-17/
CATEGORIES:Курсы
END:VEVENT
END:VCALENDAR