BEGIN:VCALENDAR
VERSION:2.0
PRODID:-//Magnifique Beauty School - ECPv4.7.0.1//NONSGML v1.0//EN
CALSCALE:GREGORIAN
METHOD:PUBLISH
X-WR-CALNAME:Magnifique Beauty School
X-ORIGINAL-URL:https://www.magnifique.com.ua
X-WR-CALDESC:Events for Magnifique Beauty School
BEGIN:VEVENT
DTSTART;TZID=UTC+3:20200528T100000
DTEND;TZID=UTC+3:20200528T160000
DTSTAMP:20260424T072857
CREATED:20200315T221146Z
LAST-MODIFIED:20200422T115740Z
UID:1539-1590660000-1590681600@www.magnifique.com.ua
SUMMARY:Курс "Brow Artist"
DESCRIPTION:
URL:https://www.magnifique.com.ua/event/%d0%ba%d1%83%d1%80%d1%81-brow-artist-11/
CATEGORIES:Курсы
END:VEVENT
END:VCALENDAR