BEGIN:VCALENDAR
VERSION:2.0
PRODID:-//Magnifique Beauty School - ECPv4.7.0.1//NONSGML v1.0//EN
CALSCALE:GREGORIAN
METHOD:PUBLISH
X-WR-CALNAME:Magnifique Beauty School
X-ORIGINAL-URL:https://www.magnifique.com.ua
X-WR-CALDESC:Events for Magnifique Beauty School
BEGIN:VEVENT
DTSTART;TZID=UTC+3:20200407T110000
DTEND;TZID=UTC+3:20200407T130000
DTSTAMP:20260424T113532
CREATED:20200211T222027Z
LAST-MODIFIED:20200328T142351Z
UID:1286-1586257200-1586264400@www.magnifique.com.ua
SUMMARY:Онлайн-курс "Эстетическая косметология"
DESCRIPTION:
URL:https://www.magnifique.com.ua/event/%d0%ba%d1%83%d1%80%d1%81-%d1%8d%d1%81%d1%82%d0%b5%d1%82%d0%b8%d1%87%d0%b5%d1%81%d0%ba%d0%b0%d1%8f-%d0%ba%d0%be%d1%81%d0%bc%d0%b5%d1%82%d0%be%d0%bb%d0%be%d0%b3%d0%b8%d1%8f-30/
CATEGORIES:Курсы
END:VEVENT
END:VCALENDAR