BEGIN:VCALENDAR
VERSION:2.0
PRODID:-//Magnifique Beauty School - ECPv4.7.0.1//NONSGML v1.0//EN
CALSCALE:GREGORIAN
METHOD:PUBLISH
X-WR-CALNAME:Magnifique Beauty School
X-ORIGINAL-URL:https://www.magnifique.com.ua
X-WR-CALDESC:Events for Magnifique Beauty School
BEGIN:VEVENT
DTSTART;TZID=UTC+3:20200515T100000
DTEND;TZID=UTC+3:20200515T170000
DTSTAMP:20260424T101443
CREATED:20200315T214932Z
LAST-MODIFIED:20200315T214932Z
UID:1527-1589536800-1589562000@www.magnifique.com.ua
SUMMARY:Курс "Шугаринг"
DESCRIPTION:
URL:https://www.magnifique.com.ua/event/%d0%ba%d1%83%d1%80%d1%81-%d1%88%d1%83%d0%b3%d0%b0%d1%80%d0%b8%d0%bd%d0%b3-7/
CATEGORIES:Курсы
END:VEVENT
END:VCALENDAR