BEGIN:VCALENDAR
VERSION:2.0
PRODID:-//Magnifique Beauty School - ECPv4.7.0.1//NONSGML v1.0//EN
CALSCALE:GREGORIAN
METHOD:PUBLISH
X-WR-CALNAME:Magnifique Beauty School
X-ORIGINAL-URL:https://www.magnifique.com.ua
X-WR-CALDESC:Events for Magnifique Beauty School
BEGIN:VEVENT
DTSTART;TZID=UTC+3:20220120T100000
DTEND;TZID=UTC+3:20220120T160000
DTSTAMP:20260422T133303
CREATED:20211211T171631Z
LAST-MODIFIED:20211220T201705Z
UID:3003-1642672800-1642694400@www.magnifique.com.ua
SUMMARY:Курс "Плазмотерапия"
DESCRIPTION:
URL:https://www.magnifique.com.ua/event/%d0%ba%d1%83%d1%80%d1%81-%d0%bf%d0%bb%d0%b0%d0%b7%d0%bc%d0%be%d1%82%d0%b5%d1%80%d0%b0%d0%bf%d0%b8%d1%8f-13/
CATEGORIES:Курсы
END:VEVENT
END:VCALENDAR