BEGIN:VCALENDAR
VERSION:2.0
PRODID:-//Magnifique Beauty School - ECPv4.7.0.1//NONSGML v1.0//EN
CALSCALE:GREGORIAN
METHOD:PUBLISH
X-WR-CALNAME:Magnifique Beauty School
X-ORIGINAL-URL:https://www.magnifique.com.ua
X-WR-CALDESC:Events for Magnifique Beauty School
BEGIN:VEVENT
DTSTART;TZID=UTC+3:20220214T100000
DTEND;TZID=UTC+3:20220214T130000
DTSTAMP:20260421T223814
CREATED:20220114T191624Z
LAST-MODIFIED:20220114T191624Z
UID:3052-1644832800-1644843600@www.magnifique.com.ua
SUMMARY:Курс "Основы медицинских знаний"
DESCRIPTION:
URL:https://www.magnifique.com.ua/event/%d0%ba%d1%83%d1%80%d1%81-%d0%be%d1%81%d0%bd%d0%be%d0%b2%d1%8b-%d0%bc%d0%b5%d0%b4%d0%b8%d1%86%d0%b8%d0%bd%d1%81%d0%ba%d0%b8%d1%85-%d0%b7%d0%bd%d0%b0%d0%bd%d0%b8%d0%b9-33/
CATEGORIES:Курсы
END:VEVENT
END:VCALENDAR