BEGIN:VCALENDAR
VERSION:2.0
PRODID:-//Magnifique Beauty School - ECPv4.7.0.1//NONSGML v1.0//EN
CALSCALE:GREGORIAN
METHOD:PUBLISH
X-WR-CALNAME:Magnifique Beauty School
X-ORIGINAL-URL:https://www.magnifique.com.ua
X-WR-CALDESC:Events for Magnifique Beauty School
BEGIN:VEVENT
DTSTART;TZID=UTC+3:20210202T100000
DTEND;TZID=UTC+3:20210202T130000
DTSTAMP:20260422T223210
CREATED:20201224T094545Z
LAST-MODIFIED:20201224T094545Z
UID:2200-1612260000-1612270800@www.magnifique.com.ua
SUMMARY:Курс "Основы медицинских знаний"
DESCRIPTION:
URL:https://www.magnifique.com.ua/event/%d0%ba%d1%83%d1%80%d1%81-%d0%be%d1%81%d0%bd%d0%be%d0%b2%d1%8b-%d0%bc%d0%b5%d0%b4%d0%b8%d1%86%d0%b8%d0%bd%d1%81%d0%ba%d0%b8%d1%85-%d0%b7%d0%bd%d0%b0%d0%bd%d0%b8%d0%b9-21/
CATEGORIES:Курсы
END:VEVENT
END:VCALENDAR