BEGIN:VCALENDAR
VERSION:2.0
PRODID:-//Magnifique Beauty School - ECPv4.7.0.1//NONSGML v1.0//EN
CALSCALE:GREGORIAN
METHOD:PUBLISH
X-WR-CALNAME:Magnifique Beauty School
X-ORIGINAL-URL:https://www.magnifique.com.ua
X-WR-CALDESC:Events for Magnifique Beauty School
BEGIN:VEVENT
DTSTART;TZID=UTC+3:20220524T100000
DTEND;TZID=UTC+3:20220524T150000
DTSTAMP:20260420T113303
CREATED:20220513T170109Z
LAST-MODIFIED:20220513T170109Z
UID:3171-1653386400-1653404400@www.magnifique.com.ua
SUMMARY:Курс онлайн/офлайн “Контурна пластика губ»
DESCRIPTION:
URL:https://www.magnifique.com.ua/event/%d0%ba%d1%83%d1%80%d1%81-%d0%be%d0%bd%d0%bb%d0%b0%d0%b9%d0%bd-%d0%be%d1%84%d0%bb%d0%b0%d0%b9%d0%bd-%d0%ba%d0%be%d0%bd%d1%82%d1%83%d1%80%d0%bd%d0%b0-%d0%bf%d0%bb%d0%b0%d1%81%d1%82%d0%b8%d0%ba/
CATEGORIES:Курсы
END:VEVENT
END:VCALENDAR