BEGIN:VCALENDAR
VERSION:2.0
PRODID:-//Magnifique Beauty School - ECPv4.7.0.1//NONSGML v1.0//EN
CALSCALE:GREGORIAN
METHOD:PUBLISH
X-WR-CALNAME:Magnifique Beauty School
X-ORIGINAL-URL:https://www.magnifique.com.ua
X-WR-CALDESC:Events for Magnifique Beauty School
BEGIN:VEVENT
DTSTART;TZID=UTC+3:20200819T100000
DTEND;TZID=UTC+3:20200819T170000
DTSTAMP:20260423T214154
CREATED:20200616T214011Z
LAST-MODIFIED:20200616T214011Z
UID:1799-1597831200-1597856400@www.magnifique.com.ua
SUMMARY:Курс "Объемное моделирование лица"
DESCRIPTION:
URL:https://www.magnifique.com.ua/event/%d0%ba%d1%83%d1%80%d1%81-%d0%be%d0%b1%d1%8a%d0%b5%d0%bc%d0%bd%d0%be%d0%b5-%d0%bc%d0%be%d0%b4%d0%b5%d0%bb%d0%b8%d1%80%d0%be%d0%b2%d0%b0%d0%bd%d0%b8%d0%b5-%d0%bb%d0%b8%d1%86%d0%b0-14/
CATEGORIES:Семинары
END:VEVENT
END:VCALENDAR